BEGIN:VCALENDAR
VERSION:2.0
PRODID:-//Ready Set Go Adventures  triathlon, cycling and running events. - ECPv6.15.20//NONSGML v1.0//EN
CALSCALE:GREGORIAN
METHOD:PUBLISH
X-WR-CALNAME:Ready Set Go Adventures  triathlon, cycling and running events.
X-ORIGINAL-URL:https://rsgadventures.com
X-WR-CALDESC:Events for Ready Set Go Adventures  triathlon, cycling and running events.
REFRESH-INTERVAL;VALUE=DURATION:PT1H
X-Robots-Tag:noindex
X-PUBLISHED-TTL:PT1H
BEGIN:VTIMEZONE
TZID:America/New_York
BEGIN:DAYLIGHT
TZOFFSETFROM:-0500
TZOFFSETTO:-0400
TZNAME:EDT
DTSTART:20200308T070000
END:DAYLIGHT
BEGIN:STANDARD
TZOFFSETFROM:-0400
TZOFFSETTO:-0500
TZNAME:EST
DTSTART:20201101T060000
END:STANDARD
BEGIN:DAYLIGHT
TZOFFSETFROM:-0500
TZOFFSETTO:-0400
TZNAME:EDT
DTSTART:20210314T070000
END:DAYLIGHT
BEGIN:STANDARD
TZOFFSETFROM:-0400
TZOFFSETTO:-0500
TZNAME:EST
DTSTART:20211107T060000
END:STANDARD
BEGIN:DAYLIGHT
TZOFFSETFROM:-0500
TZOFFSETTO:-0400
TZNAME:EDT
DTSTART:20220313T070000
END:DAYLIGHT
BEGIN:STANDARD
TZOFFSETFROM:-0400
TZOFFSETTO:-0500
TZNAME:EST
DTSTART:20221106T060000
END:STANDARD
BEGIN:DAYLIGHT
TZOFFSETFROM:-0500
TZOFFSETTO:-0400
TZNAME:EDT
DTSTART:20230312T070000
END:DAYLIGHT
BEGIN:STANDARD
TZOFFSETFROM:-0400
TZOFFSETTO:-0500
TZNAME:EST
DTSTART:20231105T060000
END:STANDARD
BEGIN:DAYLIGHT
TZOFFSETFROM:-0500
TZOFFSETTO:-0400
TZNAME:EDT
DTSTART:20240310T070000
END:DAYLIGHT
BEGIN:STANDARD
TZOFFSETFROM:-0400
TZOFFSETTO:-0500
TZNAME:EST
DTSTART:20241103T060000
END:STANDARD
BEGIN:DAYLIGHT
TZOFFSETFROM:-0500
TZOFFSETTO:-0400
TZNAME:EDT
DTSTART:20250309T070000
END:DAYLIGHT
BEGIN:STANDARD
TZOFFSETFROM:-0400
TZOFFSETTO:-0500
TZNAME:EST
DTSTART:20251102T060000
END:STANDARD
BEGIN:DAYLIGHT
TZOFFSETFROM:-0500
TZOFFSETTO:-0400
TZNAME:EDT
DTSTART:20260308T070000
END:DAYLIGHT
BEGIN:STANDARD
TZOFFSETFROM:-0400
TZOFFSETTO:-0500
TZNAME:EST
DTSTART:20261101T060000
END:STANDARD
END:VTIMEZONE
BEGIN:VEVENT
DTSTART;TZID=America/New_York:20251130T090000
DTEND;TZID=America/New_York:20251130T090000
DTSTAMP:20260422T055145
CREATED:20241021T215910Z
LAST-MODIFIED:20250618T135400Z
UID:10000041-1764493200-1764493200@rsgadventures.com
SUMMARY:Frosty Woods MTB Race
DESCRIPTION: Join us for the 2nd Annual Frosty Woods MTB Race at Ringwood State Park! \n(Registration Opening Soon!) \nCalling all mountain bikers! \nAfter the success of last year’s Frosty Woods Trail Run\, we’re thrilled to expand the adventure to include you. It’s time to cap off your season with some adrenaline-pumping\, late-season racing. \nWhy ride?\nShake off those post-Thanksgiving calories with a thrilling ride through the crisp\, frosty woods of Ringwood State Park. The course is designed to challenge your skills while giving you the perfect mix of fun and competition. \n  \n \nPrime conditions\, unbeatable vibes!\nDecember riding in New Jersey? Absolutely! With the shifting weather patterns\, early December now offers fantastic\, fast conditions for mountain biking—cold enough to keep you cool\, but not too icy to stop you from tearing up the trails. \nWhether you’re looking to set a personal record or simply enjoy one last race before the year ends\, Frosty Woods MTB is where you want to be. Don’t miss your chance to ride\, race\, and celebrate the season in style! \n \nEndurance Race \nRacers will do as many loops as possible within 3 hours. If a rider reachs the Finish arch prior to the 3 hour mark they can head out for one last lap. Winner will be determined by whoever does the most laps fastest. \nDouble Shot Race \nHere’s the kinder somewhat gentler version of the Frosty race. Racers will do two laps of the course and winner determined by fastest time. \nPodiums & Post Race Party \nWe’ll have podiums with medals\, raffle prizes plus post race food & drinks. \nThe Course \n                                                                                   We’ve created a fast and flowy course that’s different from the one held in the Spring & Good Fun! \n \n \n  \n  \n        \n  \n  \n 
URL:https://rsgadventures.com/event/frosty-woods-mtb/
LOCATION:Ringwood\, 1304 Sloatsburg Rd\, Ringwood\, NJ\, 07456
CATEGORIES:Mountain Bike
ATTACH;FMTTYPE=image/png:https://rsgadventures.com/wp-content/uploads/2024/10/Frosty-Woods-MTB.png
ORGANIZER;CN="Ready Set Go Adventures":MAILTO:info@rsgadventures.com
END:VEVENT
BEGIN:VEVENT
DTSTART;TZID=America/New_York:20250504T090000
DTEND;TZID=America/New_York:20250504T150000
DTSTAMP:20260422T055145
CREATED:20241023T132347Z
LAST-MODIFIED:20250502T015307Z
UID:10000044-1746349200-1746370800@rsgadventures.com
SUMMARY:XTERRA NEW JERSEY (#XNJ) - Off Road Triathlon - World Championships Qualifier
DESCRIPTION:[vc_row css_animation=”” row_type=”row” use_row_as_full_screen_section=”no” type=”full_width” angled_section=”no” text_align=”left” background_image_as_pattern=”without_pattern”][vc_column][vc_column_text] \n\n\nMULTISPORT\, TRAIL RUN & BIKE RACES. \nGRAVEL or MOUNTAIN BIKE?  You Choose. \n2025 XTERRA New Jersey Racers Guide \n \n  \n           \nFull Race Information and Details on Qualifying for World Championships are up on XTERRA PLANET \nXNJ Olympic Triathlon racers will be competing for 26 slots at XTERRA World Championships. \nXNJ is also expected to be the kickoff race for the 2025 USA Triathlon National Gravel Series. \n  \nXNJ Trail Runs are XTERRA Trail Run World Series events with 232 qualifying slots for the Worlds Championships in Fall 2025 (location & date TBD). \nXNJ Trail Runs are also part of the Way Over Yonder Trail Run Series. \n  \nThe host site\, Wawayanda\, State Park is one of the most majestic parks in the Northeast and is only 50 miles from New York City. \nWawayanda is comprised of 34\,350 acres and features over 40 miles of trails and a crystal clear 255 acre lake. \nYou’ll love swimming in the lake and the amazing views while riding your bike and trail running. \n  \nRACE CATEGORIES \nMultisport \n\nOlympic Triathlon 1000 Meter Swim + 24 Mile Bike + 6 1/2 Mile Run\nSprint Triathlon       500 Meter Swim + 8 Mile Bike + 2 1/4 Mile Run\nDuathlon                             2 1/4 Mile Run + 16 Mile Bike + 6 1/2 Mile Run\nPaddle Triathlon                  2000 Meter Paddle + 24 Mile Bike\nRelay Team              1000 Meter Swim + 24 Mile Bike + 6 1/2 Mile Run\n\nTrail Runs \n\nMarathon Trail Run\nHalf Marathon Trail Run\n10K Trail Run\n\n\n\nBike Races \n\n\n\nMTB Marathon\nMTB Half Marathon\nGravel Half Marathon\nGravel Quarter Marathon\n\n  \nTIERED PRICING \nPrice Increase January 1\, 2025 \n  \nLODGING \nOn Site Camping $25 per tent per night \nNearby Hotels in Vernon\, NJ and Warwick\, NY \n  \n \n\n  \nSCHEDULE \nMay 3\, 2025 \n7:300 AM Marathon Trail Run \n8:30 AM Half Marathon Trail Run \n9:30 AM 10K Trail Run \n10:00 AM 5K Trail Run \n12:00 MTB Marathon \n12:15 MTB Half Marathon \n12:15 Gravel Bike Half Marathon \n12:20 PM Gravel Bike Quarter Marathon \n  \n\nMay 4\, 2025 \n9:00 AM Olympic Triathlon & Relay Team \n9:10 AM Duathlon \n9:30 AM Sprint Triathlon \n10:00 AM Paddle Triathlon \n  \n\n  \n\nCOURSE DESCRIPTION & MAPS \nBike course is an 8 mile loop that is suitable for both Gravel & Mountain Bikes. \nThe loop features a great mix of Gravel Roads\, Packed Dirt Single Track & a visit into the Heckling Woods. \nDepending on race category you will do one\, two or three loops. \nRunning  loop for the Olympic Triathlon and Trail Run races feature magnificient views as you circle around Wawayanda Lake.  Definetely a good challenge dancing through a mix of packed dirt and rocky goodness. \nThere isn’t a killer climb – all the up hill run sections are short and through rolling hills. \nRun loop for the Sprint is the same one we’ve used for past three seasons for our Wednesday Wonders Sprint Triathlons and is fairly flat and suitable for athletes of all levels. \nHalf Marathon & Marathon loop is a mega loop is teh best of both worlds – starts with the Bike loop and feeds right into the 10K Trail Run. \n  \nOpen Water Swim Map \n \n\n\n  \n \n  \nAll Course Maps are on the XTERRA New Jersey page on XTERRA Planet and the RideWithGPS XTERRA New Jersey Event page. \n  \nRunners have asked for more details on the mixed terrain in the 13 mile loop for the Marathon & Half Marathon Trail Runs – So Here’s a handy guide map of what you’ll be experiencing. Click image below to launch PDF. \n\n\n \nClick for  the 2024 XNJ Racer Notes 4-23-24 PDF with Links \nRESULTS 2022 * 2021 * 2019 * 2018 * 2017 \nPHOTOS  2022 * 2021 * 2019 * 2018 * 2017 \nWhere: Wawayanda State Park – Hewitt\, New Jersey  (50 Miles From New York City) \n\n\n[/vc_column_text][/vc_column][/vc_row]
URL:https://rsgadventures.com/event/xterra-new-jersey-xnj-off-road-multisport/
LOCATION:Wawayanda State Park\, Wawayanda State Park\, Hewitt\, NJ
CATEGORIES:Duathlon,Gravel Grinder,Mountain Bike,Triathalon,Way Over Yonder Triathlon Series
ATTACH;FMTTYPE=image/png:https://rsgadventures.com/wp-content/uploads/2024/10/XNJ-3-racers-pic-2025V4-may-4.png
ORGANIZER;CN="Ready Set Go Adventures":MAILTO:info@rsgadventures.com
END:VEVENT
BEGIN:VEVENT
DTSTART;TZID=America/New_York:20250503T120000
DTEND;TZID=America/New_York:20250504T160000
DTSTAMP:20260422T055145
CREATED:20241224T180903Z
LAST-MODIFIED:20241224T181027Z
UID:10000048-1746273600-1746374400@rsgadventures.com
SUMMARY:XTERRA NEW JERSEY USA CYCLING MTB MARATHON
DESCRIPTION:[vc_row css_animation=”” row_type=”row” use_row_as_full_screen_section=”no” type=”full_width” angled_section=”no” text_align=”left” background_image_as_pattern=”without_pattern”][vc_column][vc_column_text] \n\n\nRegistration is live NOW! \nEARN USA CYCLING POINTS  \nMountain Bike Marathon Championships are coming to Roanoke Virginia in July. \nRace XTERRA NJ MTB MARATHON to earn points towards rankings and call ups at Nationals. \n  \nThe host site\, Wawayanda\, State Park is one of the most majestic parks in the Northeast and is only 50 miles from New York City. \nWawayanda is comprised of 34\,350 acres and features over 40 miles of trails and a crystal clear 255 acre lake. \n\n\n\n\n  \nPRICING INCREASE DATES \nJanuary 2\, April 1 & May 1 \n  \n\nRACE COURSE MAP \nRunning  loop features magnificent views of Wawayanda Lake.  Definitely a good challenge dancing through a mix of packed dirt and rocky goodness. \nThere isn’t a killer climb – all the up hill run sections are short & punchy. \nHalf Marathon & Marathon loop is a mega loop is the best of both worlds – starts with the Bike loop and feeds right into the Red Loop. \n\nMTB Marathon will do two loops of both courses. \n  \n  \n\n\nLODGING \nOn Site Camping $25 per tent \nNearby Hotels & AirBnB in Vernon\, NJ and Warwick\, NY \n  \n \n\n  \nSCHEDULE \nSaturday May 3 \n8:00 AM Marathon Trail Run \n8:30 AM Half Marathon Trail Run \n9:30 AM 10K Trail Run \n\n\n\n  \nRESULTS  \nPHOTOS  \nWhere: Wawayanda State Park – Hewitt\, New Jersey  (50 Miles From New York City) \n\n\n[/vc_column_text][/vc_column][/vc_row]
URL:https://rsgadventures.com/event/xterra-new-jersey-usa-cycling-mtb-marathon/
LOCATION:Wawayanda State Park\, Wawayanda State Park\, Hewitt\, NJ
CATEGORIES:Mountain Bike
ATTACH;FMTTYPE=image/png:https://rsgadventures.com/wp-content/uploads/2024/12/MTB-MARATHON-v2-1920-x-1080-px.png
ORGANIZER;CN="Ready Set Go Adventures":MAILTO:info@rsgadventures.com
END:VEVENT
BEGIN:VEVENT
DTSTART;TZID=America/New_York:20240428T090000
DTEND;TZID=America/New_York:20240428T150000
DTSTAMP:20260422T055145
CREATED:20201111T165235Z
LAST-MODIFIED:20240424T123424Z
UID:10000002-1714294800-1714316400@rsgadventures.com
SUMMARY:XTERRA NEW JERSEY (#XNJ) - Gravel Multisport & Bike Races
DESCRIPTION:[vc_row css_animation=”” row_type=”row” use_row_as_full_screen_section=”no” type=”full_width” angled_section=”no” text_align=”left” background_image_as_pattern=”without_pattern”][vc_column][vc_column_text] \n\n\nMULTISPORT\, TRAIL RUN & BIKE RACES. \nGRAVEL or MOUNTAIN BIKE?  You Choose. \nClick for  the 2024 XNJ Racer Notes 4-23-24 PDF with Links \nREGISTRATION CLOSES THURSDAY 4/25 AT 11:59 pm. \n \n  \n           \n  \nXNJ Olympic Triathlon racers will be competing for 26 slots at XTERRA World Championships\, which will be held at the Dolomites in Trentino\, Italy on September 23\, 2023. \nXNJ is also expected to be the kickoff race for the 2023 USA Triathlon National Gravel Series. \n  \nXNJ Trail Runs are XTERRA Trail Run World Series events with 232 qualifying slots for the Worlds Championships in Fall 2023 (location & date TBD). \nXNJ Trail Runs are also part of the Way Over Yonder Trail Run Series. \n  \nThe host site\, Wawayanda\, State Park is one of the most majestic parks in the Northeast and is only 50 miles from New York City. \nWawayanda is comprised of 34\,350 acres and features over 40 miles of trails and a crystal clear 255 acre lake. \nYou’ll love swimming in the lake and the amazing views while riding your bike and trail running. \n  \nRACE CATEGORIES \nMultisport \n\nOlympic Triathlon 1000 Meter Swim + 24 Mile Bike + 6 1/2 Mile Run\nSprint Triathlon       500 Meter Swim + 8 Mile Bike + 2 1/4 Mile Run\nDuathlon                             2 1/4 Mile Run + 16 Mile Bike + 6 1/2 Mile Run\nAquabike                  1000 Meter Swim + 24 Mile Bike\nRelay Team              1000 Meter Swim + 24 Mile Bike + 6 1/2 Mile Run\n\nTrail Runs \n\nMarathon Trail Run\nHalf Marathon Trail Run\n10K Trail Run\n\n\n\nBike Crit \n\n\n\nAdvanced 30 Mile Bike Race\nSport          15 Mile Bike Race\nBeginner    7.5 Mile Bike Race\n\n  \nTIERED PRICING \nPrice Increase January 1\, 2024 and April 1\, 2024 \n  \nLODGING \nOn Site Camping $20 per tent \nNearby Hotels in Vernon\, NJ and Warwick\, NY \n  \n \n\n  \nSCHEDULE \nSaturday April 27 \n8:00 AM Marathon Trail Run \n8:30 AM Half Marathon Trail Run \n9:30 AM 10K Trail Run \n\nSunday April 28 \n9:00 AM Olympic Triathlon\, Realy Team & AquaBike \n9:10 AM Duathlon \n9:30 AM Sprint Triathlon \n11:00 AM Gravel Bike Race – 24 Mile \n12:00 PM Gravel Bike Race – 8 Mile \n\n  \n\nCOURSE DESCRIPTION & MAPS \nBike course is an 8 mile loop that is suitable for both Gravel & Mountain Bikes. \nThe loop features a great mix of Gravel Roads\, Packed Dirt Single Track & a visit into the Heckling Woods. \nDepending on race category you will do one\, two or three loops. \nRunning  loop for the Olympic Triathlon and Trail Run races feature magnificient views as you circle around Wawayanda Lake.  Definetely a good challenge dancing through a mix of packed dirt and rocky goodness. \nThere isn’t a killer climb – all the up hill run sections are short and through rolling hills. \nRun loop for the Sprint is the same one we’ve used for past three seasons for our Wednesday Wonders Sprint Triathlons and is fairly flat and suitable for athletes of all levels. \nHalf Marathon & Marathon loop is a mega loop is teh best of both worlds – starts with the Bike loop and feeds right into the 10K Trail Run. \n  \nOpen Water Swim Map \n \n\n\n  \n \n  \nAll Course Maps are on the XTERRA New Jersey page on XTERRA Planet and the RideWithGPS XTERRA New Jersey Event page. \n  \nRunners have asked for more details on the mixed terrain in the 13 mile loop for the Marathon & Half Marathon Trail Runs – So Here’s a handy guide map of what you’ll be experiencing. Click image below to launch PDF. \n\n\n \n  \nRESULTS 2022 * 2021 * 2019 * 2018 * 2017 \nPHOTOS  2022 * 2021 * 2019 * 2018 * 2017 \nWhere: Wawayanda State Park – Hewitt\, New Jersey  (50 Miles From New York City) \n\n\n[/vc_column_text][/vc_column][/vc_row]
URL:https://rsgadventures.com/event/xnj/
LOCATION:Wawayanda State Park\, Wawayanda State Park\, Hewitt\, NJ
CATEGORIES:Duathlon,Gravel Grinder,Mountain Bike,Triathalon,Way Over Yonder Triathlon Series
ATTACH;FMTTYPE=image/png:https://rsgadventures.com/wp-content/uploads/2020/11/xnj-white-above-below.png
ORGANIZER;CN="Ready Set Go Adventures":MAILTO:info@rsgadventures.com
END:VEVENT
BEGIN:VEVENT
DTSTART;VALUE=DATE:20240225
DTEND;VALUE=DATE:20240226
DTSTAMP:20260422T055145
CREATED:20201118T160715Z
LAST-MODIFIED:20231205T172126Z
UID:10000008-1708819200-1708905599@rsgadventures.com
SUMMARY:SnowBike Festival - MTB
DESCRIPTION:Join us for the 4th Annual SnowBike Festival \n\n \nIf you’ve never ridden or raced a Fat Bike on snow trust us you need to experience this event.\n\nDon’t have a Fat Bike? No problem – just reserve a rental when you sign up.\n\nWe’re adding another new trail so that the Long Course Race will do Three Laps pf the extended 5 Mile loop with 750 ft elevation gain.\nShort Course Race will do Two Laps of the 3.5 Miles and 500 ft gain. (It’s same as Long Course loop except without the trails across the road and that one big climb).\n\nJust want to ride? We’ll have a One Hour Guided Snowy Fun Ride following the races.\n\nOur host resort\, Bearpen Mountain\,  grooms all the trails\, so you’ll be riding on well packed snow  – unless of course we get a Noreaster – then again that would just amplify the fun!\nIn case of a weather issue we have a back up date of March 5.\n\nWorking on a local brewery and hot food being onsite to offer post ride refreshments for sale.\nFat or Plus bikes only! \nRaces: \n8:30 AM  Long Course \n11:00 AM Short Course \n12:30 PM Snowy Guided Fun Ride \nRegistration  link: www.BikeReg.com/SnowBike \n2021 SnowBike Festival Pictures \n2021 SnowBike Festival Results \nCourse Map \nHere’s past version of the race loop. You can download the GPS from RideWithGPS or pull up in the App on your phone. We are going to tweak a bit and will post revised map including the new trail once we have snow on the ground and can head up to ride the loop\, but this gives you a good idea of the course and elevation. \n \n 
URL:https://rsgadventures.com/event/snowbike-festival-race/
LOCATION:Bearpen Mountain\, 1491 Co Rd 2\, Prattsville\, NY\, 12468
CATEGORIES:Mountain Bike
ATTACH;FMTTYPE=image/jpeg:https://rsgadventures.com/wp-content/uploads/2020/11/SnowBike-Festival-logo.jpg
ORGANIZER;CN="Ready Set Go Adventures":MAILTO:info@rsgadventures.com
END:VEVENT
BEGIN:VEVENT
DTSTART;VALUE=DATE:20230408
DTEND;VALUE=DATE:20230409
DTSTAMP:20260422T055145
CREATED:20201111T171500Z
LAST-MODIFIED:20230319T225510Z
UID:10000006-1680912000-1680998399@rsgadventures.com
SUMMARY:JUNGLE MTB ESCAPE - H2H MTB Race Series
DESCRIPTION:[vc_row css_animation=”” row_type=”row” use_row_as_full_screen_section=”no” type=”full_width” angled_section=”no” text_align=”left” background_image_as_pattern=”without_pattern”][vc_column][vc_column_text]Ready To Race In The Jungle? \n                      \nRace is also a Fundraiser for NICA\, JORBA & West Milford Volunteer Ambulance with $5 from each entry being split between the charities. \nEqual payout of Cash prizes for Women & Men Pro/Cat 1 and Enduarnce Categories. Medals & Prizes for all other catgeories. \nSunday March 26 9 AM we will have a course clean up followed by tempo pace ride \nSaturday April 1  12 PM Course Preview ride. Our Trail Run event is in the morning\, so please stay off the course until event finishes. Park in lower lot and ride up. \nRace day there is a $5 NJ State Parks parking fee\, so please carpool if possible and either pre-pay parking in registration or bring exact change in cash. \nWe’ll probably change up the course a bit\, but will be similar to the 2022 version and will be posted prior to event. \n2022 Course Map & Elevation: RideWithGPS \nPermit Pending & Registration Opening Soon \nREGISTER & MORE INFO\n  \n[/vc_column_text][/vc_column][/vc_row]
URL:https://rsgadventures.com/event/wtf-mtb-spring-mtb/
LOCATION:Jungle Habitat\, 109 Airport Rd\, West Milford\, NJ\, 07480
CATEGORIES:Mountain Bike
ATTACH;FMTTYPE=image/png:https://rsgadventures.com/wp-content/uploads/2020/11/Jungle-Escape_MTB-2.png
ORGANIZER;CN="Ready Set Go Adventures":MAILTO:info@rsgadventures.com
END:VEVENT
BEGIN:VEVENT
DTSTART;VALUE=DATE:20210911
DTEND;VALUE=DATE:20210912
DTSTAMP:20260422T055145
CREATED:20201111T171901Z
LAST-MODIFIED:20210531T222150Z
UID:10000007-1631318400-1631404799@rsgadventures.com
SUMMARY:WTF! MTB Reverse - MTB
DESCRIPTION:So you think you really have a handle on our WTF! MTB Course? \nWell WTF – we’re reversing the course for another epic day of racing. \nRegistration will be up soon…………..
URL:https://rsgadventures.com/event/wtf-mtb-fall/
LOCATION:Woodland Trails\, Sussex\, NJ
CATEGORIES:Mountain Bike
ATTACH;FMTTYPE=image/jpeg:https://rsgadventures.com/wp-content/uploads/2020/10/WTF-Medal-sticker.jpg
END:VEVENT
END:VCALENDAR