BEGIN:VCALENDAR
VERSION:2.0
PRODID:-//Ready Set Go Adventures  triathlon, cycling and running events. - ECPv6.15.20//NONSGML v1.0//EN
CALSCALE:GREGORIAN
METHOD:PUBLISH
X-WR-CALNAME:Ready Set Go Adventures  triathlon, cycling and running events.
X-ORIGINAL-URL:https://rsgadventures.com
X-WR-CALDESC:Events for Ready Set Go Adventures  triathlon, cycling and running events.
REFRESH-INTERVAL;VALUE=DURATION:PT1H
X-Robots-Tag:noindex
X-PUBLISHED-TTL:PT1H
BEGIN:VTIMEZONE
TZID:America/New_York
BEGIN:DAYLIGHT
TZOFFSETFROM:-0500
TZOFFSETTO:-0400
TZNAME:EDT
DTSTART:20250309T070000
END:DAYLIGHT
BEGIN:STANDARD
TZOFFSETFROM:-0400
TZOFFSETTO:-0500
TZNAME:EST
DTSTART:20251102T060000
END:STANDARD
BEGIN:DAYLIGHT
TZOFFSETFROM:-0500
TZOFFSETTO:-0400
TZNAME:EDT
DTSTART:20260308T070000
END:DAYLIGHT
BEGIN:STANDARD
TZOFFSETFROM:-0400
TZOFFSETTO:-0500
TZNAME:EST
DTSTART:20261101T060000
END:STANDARD
BEGIN:DAYLIGHT
TZOFFSETFROM:-0500
TZOFFSETTO:-0400
TZNAME:EDT
DTSTART:20270314T070000
END:DAYLIGHT
BEGIN:STANDARD
TZOFFSETFROM:-0400
TZOFFSETTO:-0500
TZNAME:EST
DTSTART:20271107T060000
END:STANDARD
END:VTIMEZONE
BEGIN:VEVENT
DTSTART;TZID=America/New_York:20260620T070000
DTEND;TZID=America/New_York:20260620T130000
DTSTAMP:20260422T155845
CREATED:20251016T212738Z
LAST-MODIFIED:20251224T143255Z
UID:10000057-1781938800-1781960400@rsgadventures.com
SUMMARY:XTERRA TRANSCEND TRAIL RUN - 2027 World Championships Qualifier
DESCRIPTION:[vc_row css_animation=”” row_type=”row” use_row_as_full_screen_section=”no” type=”full_width” angled_section=”no” text_align=”left” background_image_as_pattern=”without_pattern”][vc_column][vc_column_text css=””]            \n6th ANNUAL XTERRA TRANSCEND TRAIL RUN  \nFull Race Info on XTERRA PLANET \nRegistration on ULTRASIGNUP \nJoin us for a super fun and accessible trail runs. \n\nSuper flowy trails at Dickerson Mine are perfect for all levels of athletes.\nHalf Marathon\, 10K & 5K Trail Runs\n2027 XTERRA Trail Run World Championships Qualifier (Half Marathon)\nAid Station with Water\, GU Hydration\, Gels & Chews (You’ll pass it on every lap)\nWood Plaques for All Finishers\nMedals for 5 Year Age Group Winners for Half Marathon\nMedals for 10 Year Age Groups for 10K\nMedals Top 3 Overall 5K\nPost Race Food & Drinks included \nPortion of proceeds donated to JORBA to support the volunteer work that maintains these amazing trails.\nIncludes Custom XTERRA Transcend Trail Run Finisher Coffee Mug (Limited based on availability based on sign up date).\n\nEvent Schedule \n7:00 AM Packet Pickup Opens \n8:00 AM Half Marathon Start \n9:15 AM 10K Start \n9:45 AM 5K Start \nRegistration Is Live On   \nCourse Maps: \n \n \n  \n  \nRace Results  \nWant to get an idea of finish times? \nCheck last year’s results on the RSGA Webscorer page. \n  \n[/vc_column_text][/vc_column][/vc_row]
URL:https://rsgadventures.com/event/xterra-transcend-trail-run-2027-world-championships-qualifier/
LOCATION:Dickerson Mine Preserve\, 1178 Route 10\, West St\, Randolph\, NJ
CATEGORIES:Trail Run,Way Over Yonder Trail Run Series
ATTACH;FMTTYPE=image/png:https://rsgadventures.com/wp-content/uploads/2023/12/0jGRM8ffDRBPNNw2fqTW7zpsBaZYNE0G4aMlAzhD.png
END:VEVENT
END:VCALENDAR