BEGIN:VCALENDAR
VERSION:2.0
PRODID:-//Ready Set Go Adventures  triathlon, cycling and running events. - ECPv6.15.20//NONSGML v1.0//EN
CALSCALE:GREGORIAN
METHOD:PUBLISH
X-ORIGINAL-URL:https://rsgadventures.com
X-WR-CALDESC:Events for Ready Set Go Adventures  triathlon, cycling and running events.
REFRESH-INTERVAL;VALUE=DURATION:PT1H
X-Robots-Tag:noindex
X-PUBLISHED-TTL:PT1H
BEGIN:VTIMEZONE
TZID:America/New_York
BEGIN:DAYLIGHT
TZOFFSETFROM:-0500
TZOFFSETTO:-0400
TZNAME:EDT
DTSTART:20240310T070000
END:DAYLIGHT
BEGIN:STANDARD
TZOFFSETFROM:-0400
TZOFFSETTO:-0500
TZNAME:EST
DTSTART:20241103T060000
END:STANDARD
BEGIN:DAYLIGHT
TZOFFSETFROM:-0500
TZOFFSETTO:-0400
TZNAME:EDT
DTSTART:20250309T070000
END:DAYLIGHT
BEGIN:STANDARD
TZOFFSETFROM:-0400
TZOFFSETTO:-0500
TZNAME:EST
DTSTART:20251102T060000
END:STANDARD
BEGIN:DAYLIGHT
TZOFFSETFROM:-0500
TZOFFSETTO:-0400
TZNAME:EDT
DTSTART:20260308T070000
END:DAYLIGHT
BEGIN:STANDARD
TZOFFSETFROM:-0400
TZOFFSETTO:-0500
TZNAME:EST
DTSTART:20261101T060000
END:STANDARD
END:VTIMEZONE
BEGIN:VEVENT
DTSTART;TZID=America/New_York:20250503T080000
DTEND;TZID=America/New_York:20250504T150000
DTSTAMP:20260423T071348
CREATED:20241023T131828Z
LAST-MODIFIED:20241224T175511Z
UID:10000043-1746259200-1746370800@rsgadventures.com
SUMMARY:XTERRA NEW JERSEY TRAIL RUN - World Championships Qualifier
DESCRIPTION:[vc_row css_animation=”” row_type=”row” use_row_as_full_screen_section=”no” type=”full_width” angled_section=”no” text_align=”left” background_image_as_pattern=”without_pattern”][vc_column][vc_column_text] \n\n\nRegistration is live NOW! \n\n \nXNJ Trail Runs are XTERRA Trail Run World Series events with 232 qualifying slots for the Worlds Championships in Fall 2025. \nXNJ Trail Runs are also part of the Way Over Yonder Trail Run Series which also includes April Jungle Escape Runs \, June Transcend Trail Runs and July Sterling Forest Awesomeness. \n  \nThe host site\, Wawayanda\, State Park is one of the most majestic parks in the Northeast and is only 50 miles from New York City. \nWawayanda is comprised of 34\,350 acres and features over 40 miles of trails and a crystal clear 255 acre lake. \nYou’ll love swimming in the lake and the amazing views while riding your bike and trail running. \n  \nTRAIL RUN RACE CATEGORIES \n\nMarathon Trail Run\nHalf Marathon Trail Run\n10K Trail Run\n4K Trail Run\n\n\n\n\n\n  \nPRICING INCREASE DATES \nJanuary 2\, April 1 & May 1 \n  \n\nNEW 2024 COURSE MAPS \nRunning  loop features magnificent views of Wawayanda Lake.  Definitely a good challenge dancing through a mix of packed dirt and rocky goodness. \nThere isn’t a killer climb – all the up hill run sections are short & punchy. \nHalf Marathon & Marathon loop is a mega loop is the best of both worlds – starts with the Bike loop and feeds right into the 10K Trail Run. \n\n \n \n \n  \n  \n\n\nLODGING \nOn Site Camping $20 per tent \nNearby Hotels & AirBnB in Vernon\, NJ and Warwick\, NY \n  \n \n\n  \nSCHEDULE \nSaturday April 27 \n8:00 AM Marathon Trail Run \n8:30 AM Half Marathon Trail Run \n9:30 AM 10K Trail Run \n\n\n\n  \nRESULTS 2023 * 2022 * 2021 * 2019 * 2018 * 2017 \nPHOTOS 2023 * 2022 * 2021 * 2019 * 2018 * 2017 \nWhere: Wawayanda State Park – Hewitt\, New Jersey  (50 Miles From New York City) \n\n\n[/vc_column_text][/vc_column][/vc_row]
URL:https://rsgadventures.com/event/xterra-new-jersey-trail-runs-way-over-yonder-trail-run-series-2/
LOCATION:Wawayanda State Park\, Wawayanda State Park\, Hewitt\, NJ
CATEGORIES:Trail Run,Way Over Yonder Trail Run Series
ATTACH;FMTTYPE=image/png:https://rsgadventures.com/wp-content/uploads/2024/10/XNJ-FB-COVER-Instagram-Post-1.png
ORGANIZER;CN="Ready Set Go Adventures":MAILTO:info@rsgadventures.com
END:VEVENT
END:VCALENDAR