BEGIN:VCALENDAR
VERSION:2.0
PRODID:-//Ready Set Go Adventures  triathlon, cycling and running events. - ECPv6.15.20//NONSGML v1.0//EN
CALSCALE:GREGORIAN
METHOD:PUBLISH
X-ORIGINAL-URL:https://rsgadventures.com
X-WR-CALDESC:Events for Ready Set Go Adventures  triathlon, cycling and running events.
REFRESH-INTERVAL;VALUE=DURATION:PT1H
X-Robots-Tag:noindex
X-PUBLISHED-TTL:PT1H
BEGIN:VTIMEZONE
TZID:America/New_York
BEGIN:DAYLIGHT
TZOFFSETFROM:-0500
TZOFFSETTO:-0400
TZNAME:EDT
DTSTART:20200308T070000
END:DAYLIGHT
BEGIN:STANDARD
TZOFFSETFROM:-0400
TZOFFSETTO:-0500
TZNAME:EST
DTSTART:20201101T060000
END:STANDARD
BEGIN:DAYLIGHT
TZOFFSETFROM:-0500
TZOFFSETTO:-0400
TZNAME:EDT
DTSTART:20210314T070000
END:DAYLIGHT
BEGIN:STANDARD
TZOFFSETFROM:-0400
TZOFFSETTO:-0500
TZNAME:EST
DTSTART:20211107T060000
END:STANDARD
BEGIN:DAYLIGHT
TZOFFSETFROM:-0500
TZOFFSETTO:-0400
TZNAME:EDT
DTSTART:20220313T070000
END:DAYLIGHT
BEGIN:STANDARD
TZOFFSETFROM:-0400
TZOFFSETTO:-0500
TZNAME:EST
DTSTART:20221106T060000
END:STANDARD
END:VTIMEZONE
BEGIN:VEVENT
DTSTART;VALUE=DATE:20211107
DTEND;VALUE=DATE:20211108
DTSTAMP:20260422T144816
CREATED:20201111T170214Z
LAST-MODIFIED:20211001T162836Z
UID:10000005-1636243200-1636329599@rsgadventures.com
SUMMARY:Mountain Man Biathlon: Way Over Yonder Series Race
DESCRIPTION:[vc_row css_animation=”” row_type=”row” use_row_as_full_screen_section=”no” type=”full_width” angled_section=”no” text_align=”left” background_image_as_pattern=”without_pattern”][vc_column][vc_row_inner row_type=”row” type=”full_width” text_align=”center” css_animation=”” css=”.vc_custom_1613081347511{padding-top: 30px !important;padding-bottom: 30px !important;}”][vc_column_inner][vc_column_text el_class=”shadow”] \nRace #5 in the Way Over Yonder Off Road Series\n[/vc_column_text][/vc_column_inner][/vc_row_inner][vc_column_text]Race #5 in the Way Over Yonder Off Road Series. \nWe’re pleased to announce that one of the country’s oldest races (33 years!) has joined the Way Over Yonder Off Road Series. \nNo guns at play\, but it was called a Biathlon when it started and so it remains. 2 mile Trail Run\, 10 mile Mountain Bike\, 2 mile Trail Run. \nNew For 2021 – 4.5 Mile & 9 Mile Trail Runs \nPower course with some good climbs and plenty of roots. \nTrail Runs Starts @ 9:00 AM \nBiathlon Starts @ 11:00 AM[/vc_column_text][vc_row_inner row_type=”row” type=”full_width” text_align=”left” css_animation=””][vc_column_inner width=”1/4″][vc_single_image image=”2234″ img_size=”large” alignment=”center” qode_css_animation=””][/vc_column_inner][vc_column_inner width=”1/4″][vc_single_image image=”1496″ img_size=”large” alignment=”center” qode_css_animation=””][/vc_column_inner][vc_column_inner width=”1/4″][vc_single_image image=”2234″ img_size=”large” alignment=”center” qode_css_animation=””][/vc_column_inner][vc_column_inner width=”1/4″][vc_single_image image=”1496″ img_size=”large” alignment=”center” qode_css_animation=””][/vc_column_inner][/vc_row_inner][/vc_column][/vc_row][vc_row css_animation=”” row_type=”row” use_row_as_full_screen_section=”no” type=”full_width” angled_section=”no” text_align=”left” background_image_as_pattern=”without_pattern”][vc_column width=”1/3″]\n	\n		\n	\n	\n		\n	\n	\n		\n			\n				\n					\n				\n			\n		\n		\n			\n				\n					 What people are saying  \n				\n				\n					 example person  \n				\n			\n		\n	\n[/vc_column][vc_column width=”1/3″]
URL:https://rsgadventures.com/event/mountain-man-biathlon/
LOCATION:Lewis Morris State Park\, Morristown\, NJ
CATEGORIES:Duathlon,Trail Run,Triathalon,Way Over Yonder Trail Run Series,Way Over Yonder Triathlon Series
ATTACH;FMTTYPE=image/jpeg:https://rsgadventures.com/wp-content/uploads/2020/11/Mtn-Man-Image.jpg
END:VEVENT
BEGIN:VEVENT
DTSTART;TZID=America/New_York:20210613T080000
DTEND;TZID=America/New_York:20210613T110000
DTSTAMP:20260422T144816
CREATED:20210211T012751Z
LAST-MODIFIED:20210531T221543Z
UID:10000012-1623571200-1623582000@rsgadventures.com
SUMMARY:Way Over Yonder Transcend Trail Run - Trail Run Series #3
DESCRIPTION:  \nWe’re so excited for Way Over Yonder Off Road Trail Series Race #3! \nJoin us for our most accessible trail run – perfect for all levels of athletes. \nLewis Morris is a bit of an anomaly in Northern New Jersey parks in that there’s almost no rocks. \nThe challenge comes from the elevation with 800 feet for the 10K loop. \nThe Half Marathon will do a 1.8 Mile prologue loop and then two 10K loops (6 miles) \nYes it’s a bit more than a normal half – but being normal is boring so be happy and deal with it 😉 \nFull info on the Way Over Yonder Trail Run Series including how to become age group series champion\, rules and series calendar \nCourse Map: \n \nSchedule \n7:00 AM Packet Pickup Opens \n8:00 AM Half Marathon Start \n8:30 AM 10K Start \n9:00 AM 5K Start​ \n10:15 AM Awards
URL:https://rsgadventures.com/event/way-over-yonder-transcend-trail-run-trail-run-series/
LOCATION:Lewis Morris State Park\, Morristown\, NJ
CATEGORIES:Trail Run,Way Over Yonder Trail Run Series
ATTACH;FMTTYPE=image/jpeg:https://rsgadventures.com/wp-content/uploads/2021/02/WOY-Transcend-Trail-Run-01.jpg
END:VEVENT
END:VCALENDAR