BEGIN:VCALENDAR
VERSION:2.0
PRODID:-//Ready Set Go Adventures  triathlon, cycling and running events. - ECPv6.15.20//NONSGML v1.0//EN
CALSCALE:GREGORIAN
METHOD:PUBLISH
X-ORIGINAL-URL:https://rsgadventures.com
X-WR-CALDESC:Events for Ready Set Go Adventures  triathlon, cycling and running events.
REFRESH-INTERVAL;VALUE=DURATION:PT1H
X-Robots-Tag:noindex
X-PUBLISHED-TTL:PT1H
BEGIN:VTIMEZONE
TZID:America/New_York
BEGIN:DAYLIGHT
TZOFFSETFROM:-0500
TZOFFSETTO:-0400
TZNAME:EDT
DTSTART:20220313T070000
END:DAYLIGHT
BEGIN:STANDARD
TZOFFSETFROM:-0400
TZOFFSETTO:-0500
TZNAME:EST
DTSTART:20221106T060000
END:STANDARD
BEGIN:DAYLIGHT
TZOFFSETFROM:-0500
TZOFFSETTO:-0400
TZNAME:EDT
DTSTART:20230312T070000
END:DAYLIGHT
BEGIN:STANDARD
TZOFFSETFROM:-0400
TZOFFSETTO:-0500
TZNAME:EST
DTSTART:20231105T060000
END:STANDARD
BEGIN:DAYLIGHT
TZOFFSETFROM:-0500
TZOFFSETTO:-0400
TZNAME:EDT
DTSTART:20240310T070000
END:DAYLIGHT
BEGIN:STANDARD
TZOFFSETFROM:-0400
TZOFFSETTO:-0500
TZNAME:EST
DTSTART:20241103T060000
END:STANDARD
BEGIN:DAYLIGHT
TZOFFSETFROM:-0500
TZOFFSETTO:-0400
TZNAME:EDT
DTSTART:20250309T070000
END:DAYLIGHT
BEGIN:STANDARD
TZOFFSETFROM:-0400
TZOFFSETTO:-0500
TZNAME:EST
DTSTART:20251102T060000
END:STANDARD
BEGIN:DAYLIGHT
TZOFFSETFROM:-0500
TZOFFSETTO:-0400
TZNAME:EDT
DTSTART:20260308T070000
END:DAYLIGHT
BEGIN:STANDARD
TZOFFSETFROM:-0400
TZOFFSETTO:-0500
TZNAME:EST
DTSTART:20261101T060000
END:STANDARD
END:VTIMEZONE
BEGIN:VEVENT
DTSTART;TZID=America/New_York:20251130T090000
DTEND;TZID=America/New_York:20251130T090000
DTSTAMP:20260422T110509
CREATED:20241021T215910Z
LAST-MODIFIED:20250618T135400Z
UID:10000041-1764493200-1764493200@rsgadventures.com
SUMMARY:Frosty Woods MTB Race
DESCRIPTION: Join us for the 2nd Annual Frosty Woods MTB Race at Ringwood State Park! \n(Registration Opening Soon!) \nCalling all mountain bikers! \nAfter the success of last year’s Frosty Woods Trail Run\, we’re thrilled to expand the adventure to include you. It’s time to cap off your season with some adrenaline-pumping\, late-season racing. \nWhy ride?\nShake off those post-Thanksgiving calories with a thrilling ride through the crisp\, frosty woods of Ringwood State Park. The course is designed to challenge your skills while giving you the perfect mix of fun and competition. \n  \n \nPrime conditions\, unbeatable vibes!\nDecember riding in New Jersey? Absolutely! With the shifting weather patterns\, early December now offers fantastic\, fast conditions for mountain biking—cold enough to keep you cool\, but not too icy to stop you from tearing up the trails. \nWhether you’re looking to set a personal record or simply enjoy one last race before the year ends\, Frosty Woods MTB is where you want to be. Don’t miss your chance to ride\, race\, and celebrate the season in style! \n \nEndurance Race \nRacers will do as many loops as possible within 3 hours. If a rider reachs the Finish arch prior to the 3 hour mark they can head out for one last lap. Winner will be determined by whoever does the most laps fastest. \nDouble Shot Race \nHere’s the kinder somewhat gentler version of the Frosty race. Racers will do two laps of the course and winner determined by fastest time. \nPodiums & Post Race Party \nWe’ll have podiums with medals\, raffle prizes plus post race food & drinks. \nThe Course \n                                                                                   We’ve created a fast and flowy course that’s different from the one held in the Spring & Good Fun! \n \n \n  \n  \n        \n  \n  \n 
URL:https://rsgadventures.com/event/frosty-woods-mtb/
LOCATION:Ringwood\, 1304 Sloatsburg Rd\, Ringwood\, NJ\, 07456
CATEGORIES:Mountain Bike
ATTACH;FMTTYPE=image/png:https://rsgadventures.com/wp-content/uploads/2024/10/Frosty-Woods-MTB.png
ORGANIZER;CN="Ready Set Go Adventures":MAILTO:info@rsgadventures.com
END:VEVENT
BEGIN:VEVENT
DTSTART;TZID=America/New_York:20251122T090000
DTEND;TZID=America/New_York:20251122T090000
DTSTAMP:20260422T110509
CREATED:20241021T214635Z
LAST-MODIFIED:20250930T154714Z
UID:10000040-1763802000-1763802000@rsgadventures.com
SUMMARY:Frosty Woods - Way Over Yonder Trail Run Series
DESCRIPTION:[vc_row css_animation=”” row_type=”row” use_row_as_full_screen_section=”no” type=”full_width” angled_section=”no” text_align=”left” background_image_as_pattern=”without_pattern”][vc_column][vc_column_text css=””]    \n  \nJoin us November 22 as the Way Over Yonder Trail Run Series heads to Ringwood State Park for FROSTY WOODS ! \nTerrain is a great mix of single track trails with some fire road  for this USATF Sanctioned race. \nHalf Marathon\, 10K & 5K Races \nWooden Plaques for all Finishers. \nMedals for Winners \nMen’s & Women’s Half Marathon & 10K Age Group Categories: U19\, 20-29-30-39\, 40-49\, 50-59 & 60+ \nMen’s & Women’s overall winners for 5K \nPost Race Party with Food & Drinks including Bagel\, Egg & Cheese Sandwiches\, Clementines\, Bananas\, Salty Snacks & more…. \nCOURSE MAPS \nHALF MARATHON \nNew For 2025: Half Marathon is now One Big Loop! \n \n  \n\n[/vc_column_text][/vc_column][/vc_row]
URL:https://rsgadventures.com/event/frosty-woods-way-over-yonder-trail-run-series-2/
LOCATION:Ringwood\, 1304 Sloatsburg Rd\, Ringwood\, NJ\, 07456
CATEGORIES:Trail Run,Way Over Yonder Trail Run Series
ATTACH;FMTTYPE=image/png:https://rsgadventures.com/wp-content/uploads/2023/09/Black-Modern-Adventure-Logo.png
ORGANIZER;CN="Ready Set Go Adventures":MAILTO:info@rsgadventures.com
END:VEVENT
BEGIN:VEVENT
DTSTART;TZID=America/New_York:20231216T090000
DTEND;TZID=America/New_York:20231216T130000
DTSTAMP:20260422T110509
CREATED:20230928T160005Z
LAST-MODIFIED:20231209T142554Z
UID:10000031-1702717200-1702731600@rsgadventures.com
SUMMARY:Frosty Woods - Way Over Yonder Trail Run Series
DESCRIPTION:SIGN UP NOW!     \nJoin us December 10  as we head to the FROSTY WOODS of Ringwood State Park for the 2nd race of the Fall/Winter Way Over Yonder Trail Run Series! \nRegistration is Live! \n  \nTerrain is a great mix of single track trails with some fire road  for this USATF Sanctioned race. \nHalf Marathon\, 10K & 5K Races \nWooden Plaques for all Finishers. \nMedals for Winners \nMen’s & Women’s Half Marathon & 10K Age Group Categories: U19\, 20-29-30-39\, 40-49\, 50-59 & 60+ \nMen’s & Women’s overall winners for 5K \nPost Race Party with Food & Drinks including Bagel\, Egg & Cheese Sandwiches\, Clementines\, Bananas\, Salty Snacks & more…. \n  \n        \n  \nCOURSE MAPS \nHALF MARATHON will do 2 Laps of the Extended 10K Loop
URL:https://rsgadventures.com/event/frosty-woods-way-over-yonder-trail-run-series/
LOCATION:Ringwood\, 1304 Sloatsburg Rd\, Ringwood\, NJ\, 07456
CATEGORIES:Trail Run,Way Over Yonder Trail Run Series
ATTACH;FMTTYPE=image/png:https://rsgadventures.com/wp-content/uploads/2023/09/Black-Modern-Adventure-Logo.png
ORGANIZER;CN="Ready Set Go Adventures":MAILTO:info@rsgadventures.com
END:VEVENT
END:VCALENDAR